Workbook

Sheet Start Here
A4: Benefits Realization Tracker
A5: Prove the program delivered the value it promised | SIG Template v1.3
A7: Quick start | B7: 1. Benefits Register: one row per benefit with its measure, baseline, target, dates and a named business owner. 2. Measurements: add a row each time you measure a benefit. 3. Summary: latest result, progress and status calculate. Use Closeout Review at program close and again once benefits land.
A8: Source of truth | B8: Start from the benefit lines in your SIG Business Case. Once the case is approved, this tracker is the single place for benefit targets and results, so update targets here, not in the business case.
A9: Example | B9: Faster month-end close (Efficiency): business days to close the books, baseline 10, target 6, measured monthly from the finance close calendar.
A10: Good to know | B10: Progress = (latest actual - baseline) / (target - baseline), so it works for measures that should go up or down. On track at 90% or more of the expected progress for today, Behind below that, Achieved at 100%.
A11: Legend | B11: Cells with this fill are for you to complete
A13: © 2026 Stephens Insight Group LLC. Capital In. Value Out. | stephensinsightgroup.com

Sheet Summary
A1: Benefits Summary
A2: Calculates from the Benefits Register and Measurements tabs. Do not type in this sheet.
A3: As of date: | B3: =TODAY()
A5: Benefit ID | B5: Benefit | C5: Owner | D5: Baseline | E5: Target | F5: Latest actual | G5: Latest date | H5: Progress to target | I5: Expected by now | J5: Status
A6: =IF('Benefits Register'!B2="","",'Benefits Register'!A2) | B6: =IF(A6="","",'Benefits Register'!B2) | C6: =IF(A6="","",'Benefits Register'!J2&"") | D6: =IF(A6="","",'Benefits Register'!F2) | E6: =IF(A6="","",'Benefits Register'!G2) | F6: =IF(OR(A6="",COUNTIF(Measurements!$A$2:$A$500,A6)=0),"",IF(G6=0,INDEX(Measurements!$C$2:$C$500,MATCH(A6,Measurements!$A$2:$A$500,0)),SUMIFS(Measurements!$C$2:$C$500,Measurements!$A$2:$A$500,A6,Measurements!$B$2:$B$500,G6)/COUNTIFS(Measurements!$A$2:$A$500,A6,Measurements!$B$2:$B$500,G6))) | G6: =IF(A6="","",IF(COUNTIF(Measurements!$A$2:$A$500,A6)=0,"",_xlfn.MAXIFS(Measurements!$B$2:$B$500,Measurements!$A$2:$A$500,A6))) | H6: =IF(OR(F6="",D6="",E6="",E6=D6),"",(F6-D6)/(E6-D6)) | I6: =IF(OR(A6="",'Benefits Register'!H2="",'Benefits Register'!I2="",'Benefits Register'!I2<='Benefits Register'!H2),"",MAX(0,MIN(1,($B$3-'Benefits Register'!H2)/('Benefits Register'!I2-'Benefits Register'!H2)))) | J6: =IF(H6="",IF(A6="","","Not measured"),IF(H6>=1,"Achieved",IF(I6="","Tracking",IF(H6>=0.9*I6,"On track","Behind"))))
A7: =IF('Benefits Register'!B3="","",'Benefits Register'!A3) | B7: =IF(A7="","",'Benefits Register'!B3) | C7: =IF(A7="","",'Benefits Register'!J3&"") | D7: =IF(A7="","",'Benefits Register'!F3) | E7: =IF(A7="","",'Benefits Register'!G3) | F7: =IF(OR(A7="",COUNTIF(Measurements!$A$2:$A$500,A7)=0),"",IF(G7=0,INDEX(Measurements!$C$2:$C$500,MATCH(A7,Measurements!$A$2:$A$500,0)),SUMIFS(Measurements!$C$2:$C$500,Measurements!$A$2:$A$500,A7,Measurements!$B$2:$B$500,G7)/COUNTIFS(Measurements!$A$2:$A$500,A7,Measurements!$B$2:$B$500,G7))) | G7: =IF(A7="","",IF(COUNTIF(Measurements!$A$2:$A$500,A7)=0,"",_xlfn.MAXIFS(Measurements!$B$2:$B$500,Measurements!$A$2:$A$500,A7))) | H7: =IF(OR(F7="",D7="",E7="",E7=D7),"",(F7-D7)/(E7-D7)) | I7: =IF(OR(A7="",'Benefits Register'!H3="",'Benefits Register'!I3="",'Benefits Register'!I3<='Benefits Register'!H3),"",MAX(0,MIN(1,($B$3-'Benefits Register'!H3)/('Benefits Register'!I3-'Benefits Register'!H3)))) | J7: =IF(H7="",IF(A7="","","Not measured"),IF(H7>=1,"Achieved",IF(I7="","Tracking",IF(H7>=0.9*I7,"On track","Behind"))))
A8: =IF('Benefits Register'!B4="","",'Benefits Register'!A4) | B8: =IF(A8="","",'Benefits Register'!B4) | C8: =IF(A8="","",'Benefits Register'!J4&"") | D8: =IF(A8="","",'Benefits Register'!F4) | E8: =IF(A8="","",'Benefits Register'!G4) | F8: =IF(OR(A8="",COUNTIF(Measurements!$A$2:$A$500,A8)=0),"",IF(G8=0,INDEX(Measurements!$C$2:$C$500,MATCH(A8,Measurements!$A$2:$A$500,0)),SUMIFS(Measurements!$C$2:$C$500,Measurements!$A$2:$A$500,A8,Measurements!$B$2:$B$500,G8)/COUNTIFS(Measurements!$A$2:$A$500,A8,Measurements!$B$2:$B$500,G8))) | G8: =IF(A8="","",IF(COUNTIF(Measurements!$A$2:$A$500,A8)=0,"",_xlfn.MAXIFS(Measurements!$B$2:$B$500,Measurements!$A$2:$A$500,A8))) | H8: =IF(OR(F8="",D8="",E8="",E8=D8),"",(F8-D8)/(E8-D8)) | I8: =IF(OR(A8="",'Benefits Register'!H4="",'Benefits Register'!I4="",'Benefits Register'!I4<='Benefits Register'!H4),"",MAX(0,MIN(1,($B$3-'Benefits Register'!H4)/('Benefits Register'!I4-'Benefits Register'!H4)))) | J8: =IF(H8="",IF(A8="","","Not measured"),IF(H8>=1,"Achieved",IF(I8="","Tracking",IF(H8>=0.9*I8,"On track","Behind"))))
A9: =IF('Benefits Register'!B5="","",'Benefits Register'!A5) | B9: =IF(A9="","",'Benefits Register'!B5) | C9: =IF(A9="","",'Benefits Register'!J5&"") | D9: =IF(A9="","",'Benefits Register'!F5) | E9: =IF(A9="","",'Benefits Register'!G5) | F9: =IF(OR(A9="",COUNTIF(Measurements!$A$2:$A$500,A9)=0),"",IF(G9=0,INDEX(Measurements!$C$2:$C$500,MATCH(A9,Measurements!$A$2:$A$500,0)),SUMIFS(Measurements!$C$2:$C$500,Measurements!$A$2:$A$500,A9,Measurements!$B$2:$B$500,G9)/COUNTIFS(Measurements!$A$2:$A$500,A9,Measurements!$B$2:$B$500,G9))) | G9: =IF(A9="","",IF(COUNTIF(Measurements!$A$2:$A$500,A9)=0,"",_xlfn.MAXIFS(Measurements!$B$2:$B$500,Measurements!$A$2:$A$500,A9))) | H9: =IF(OR(F9="",D9="",E9="",E9=D9),"",(F9-D9)/(E9-D9)) | I9: =IF(OR(A9="",'Benefits Register'!H5="",'Benefits Register'!I5="",'Benefits Register'!I5<='Benefits Register'!H5),"",MAX(0,MIN(1,($B$3-'Benefits Register'!H5)/('Benefits Register'!I5-'Benefits Register'!H5)))) | J9: =IF(H9="",IF(A9="","","Not measured"),IF(H9>=1,"Achieved",IF(I9="","Tracking",IF(H9>=0.9*I9,"On track","Behind"))))
A10: =IF('Benefits Register'!B6="","",'Benefits Register'!A6) | B10: =IF(A10="","",'Benefits Register'!B6) | C10: =IF(A10="","",'Benefits Register'!J6&"") | D10: =IF(A10="","",'Benefits Register'!F6) | E10: =IF(A10="","",'Benefits Register'!G6) | F10: =IF(OR(A10="",COUNTIF(Measurements!$A$2:$A$500,A10)=0),"",IF(G10=0,INDEX(Measurements!$C$2:$C$500,MATCH(A10,Measurements!$A$2:$A$500,0)),SUMIFS(Measurements!$C$2:$C$500,Measurements!$A$2:$A$500,A10,Measurements!$B$2:$B$500,G10)/COUNTIFS(Measurements!$A$2:$A$500,A10,Measurements!$B$2:$B$500,G10))) | G10: =IF(A10="","",IF(COUNTIF(Measurements!$A$2:$A$500,A10)=0,"",_xlfn.MAXIFS(Measurements!$B$2:$B$500,Measurements!$A$2:$A$500,A10))) | H10: =IF(OR(F10="",D10="",E10="",E10=D10),"",(F10-D10)/(E10-D10)) | I10: =IF(OR(A10="",'Benefits Register'!H6="",'Benefits Register'!I6="",'Benefits Register'!I6<='Benefits Register'!H6),"",MAX(0,MIN(1,($B$3-'Benefits Register'!H6)/('Benefits Register'!I6-'Benefits Register'!H6)))) | J10: =IF(H10="",IF(A10="","","Not measured"),IF(H10>=1,"Achieved",IF(I10="","Tracking",IF(H10>=0.9*I10,"On track","Behind"))))
A11: =IF('Benefits Register'!B7="","",'Benefits Register'!A7) | B11: =IF(A11="","",'Benefits Register'!B7) | C11: =IF(A11="","",'Benefits Register'!J7&"") | D11: =IF(A11="","",'Benefits Register'!F7) | E11: =IF(A11="","",'Benefits Register'!G7) | F11: =IF(OR(A11="",COUNTIF(Measurements!$A$2:$A$500,A11)=0),"",IF(G11=0,INDEX(Measurements!$C$2:$C$500,MATCH(A11,Measurements!$A$2:$A$500,0)),SUMIFS(Measurements!$C$2:$C$500,Measurements!$A$2:$A$500,A11,Measurements!$B$2:$B$500,G11)/COUNTIFS(Measurements!$A$2:$A$500,A11,Measurements!$B$2:$B$500,G11))) | G11: =IF(A11="","",IF(COUNTIF(Measurements!$A$2:$A$500,A11)=0,"",_xlfn.MAXIFS(Measurements!$B$2:$B$500,Measurements!$A$2:$A$500,A11))) | H11: =IF(OR(F11="",D11="",E11="",E11=D11),"",(F11-D11)/(E11-D11)) | I11: =IF(OR(A11="",'Benefits Register'!H7="",'Benefits Register'!I7="",'Benefits Register'!I7<='Benefits Register'!H7),"",MAX(0,MIN(1,($B$3-'Benefits Register'!H7)/('Benefits Register'!I7-'Benefits Register'!H7)))) | J11: =IF(H11="",IF(A11="","","Not measured"),IF(H11>=1,"Achieved",IF(I11="","Tracking",IF(H11>=0.9*I11,"On track","Behind"))))
A12: =IF('Benefits Register'!B8="","",'Benefits Register'!A8) | B12: =IF(A12="","",'Benefits Register'!B8) | C12: =IF(A12="","",'Benefits Register'!J8&"") | D12: =IF(A12="","",'Benefits Register'!F8) | E12: =IF(A12="","",'Benefits Register'!G8) | F12: =IF(OR(A12="",COUNTIF(Measurements!$A$2:$A$500,A12)=0),"",IF(G12=0,INDEX(Measurements!$C$2:$C$500,MATCH(A12,Measurements!$A$2:$A$500,0)),SUMIFS(Measurements!$C$2:$C$500,Measurements!$A$2:$A$500,A12,Measurements!$B$2:$B$500,G12)/COUNTIFS(Measurements!$A$2:$A$500,A12,Measurements!$B$2:$B$500,G12))) | G12: =IF(A12="","",IF(COUNTIF(Measurements!$A$2:$A$500,A12)=0,"",_xlfn.MAXIFS(Measurements!$B$2:$B$500,Measurements!$A$2:$A$500,A12))) | H12: =IF(OR(F12="",D12="",E12="",E12=D12),"",(F12-D12)/(E12-D12)) | I12: =IF(OR(A12="",'Benefits Register'!H8="",'Benefits Register'!I8="",'Benefits Register'!I8<='Benefits Register'!H8),"",MAX(0,MIN(1,($B$3-'Benefits Register'!H8)/('Benefits Register'!I8-'Benefits Register'!H8)))) | J12: =IF(H12="",IF(A12="","","Not measured"),IF(H12>=1,"Achieved",IF(I12="","Tracking",IF(H12>=0.9*I12,"On track","Behind"))))
A13: =IF('Benefits Register'!B9="","",'Benefits Register'!A9) | B13: =IF(A13="","",'Benefits Register'!B9) | C13: =IF(A13="","",'Benefits Register'!J9&"") | D13: =IF(A13="","",'Benefits Register'!F9) | E13: =IF(A13="","",'Benefits Register'!G9) | F13: =IF(OR(A13="",COUNTIF(Measurements!$A$2:$A$500,A13)=0),"",IF(G13=0,INDEX(Measurements!$C$2:$C$500,MATCH(A13,Measurements!$A$2:$A$500,0)),SUMIFS(Measurements!$C$2:$C$500,Measurements!$A$2:$A$500,A13,Measurements!$B$2:$B$500,G13)/COUNTIFS(Measurements!$A$2:$A$500,A13,Measurements!$B$2:$B$500,G13))) | G13: =IF(A13="","",IF(COUNTIF(Measurements!$A$2:$A$500,A13)=0,"",_xlfn.MAXIFS(Measurements!$B$2:$B$500,Measurements!$A$2:$A$500,A13))) | H13: =IF(OR(F13="",D13="",E13="",E13=D13),"",(F13-D13)/(E13-D13)) | I13: =IF(OR(A13="",'Benefits Register'!H9="",'Benefits Register'!I9="",'Benefits Register'!I9<='Benefits Register'!H9),"",MAX(0,MIN(1,($B$3-'Benefits Register'!H9)/('Benefits Register'!I9-'Benefits Register'!H9)))) | J13: =IF(H13="",IF(A13="","","Not measured"),IF(H13>=1,"Achieved",IF(I13="","Tracking",IF(H13>=0.9*I13,"On track","Behind"))))
A14: =IF('Benefits Register'!B10="","",'Benefits Register'!A10) | B14: =IF(A14="","",'Benefits Register'!B10) | C14: =IF(A14="","",'Benefits Register'!J10&"") | D14: =IF(A14="","",'Benefits Register'!F10) | E14: =IF(A14="","",'Benefits Register'!G10) | F14: =IF(OR(A14="",COUNTIF(Measurements!$A$2:$A$500,A14)=0),"",IF(G14=0,INDEX(Measurements!$C$2:$C$500,MATCH(A14,Measurements!$A$2:$A$500,0)),SUMIFS(Measurements!$C$2:$C$500,Measurements!$A$2:$A$500,A14,Measurements!$B$2:$B$500,G14)/COUNTIFS(Measurements!$A$2:$A$500,A14,Measurements!$B$2:$B$500,G14))) | G14: =IF(A14="","",IF(COUNTIF(Measurements!$A$2:$A$500,A14)=0,"",_xlfn.MAXIFS(Measurements!$B$2:$B$500,Measurements!$A$2:$A$500,A14))) | H14: =IF(OR(F14="",D14="",E14="",E14=D14),"",(F14-D14)/(E14-D14)) | I14: =IF(OR(A14="",'Benefits Register'!H10="",'Benefits Register'!I10="",'Benefits Register'!I10<='Benefits Register'!H10),"",MAX(0,MIN(1,($B$3-'Benefits Register'!H10)/('Benefits Register'!I10-'Benefits Register'!H10)))) | J14: =IF(H14="",IF(A14="","","Not measured"),IF(H14>=1,"Achieved",IF(I14="","Tracking",IF(H14>=0.9*I14,"On track","Behind"))))
A15: =IF('Benefits Register'!B11="","",'Benefits Register'!A11) | B15: =IF(A15="","",'Benefits Register'!B11) | C15: =IF(A15="","",'Benefits Register'!J11&"") | D15: =IF(A15="","",'Benefits Register'!F11) | E15: =IF(A15="","",'Benefits Register'!G11) | F15: =IF(OR(A15="",COUNTIF(Measurements!$A$2:$A$500,A15)=0),"",IF(G15=0,INDEX(Measurements!$C$2:$C$500,MATCH(A15,Measurements!$A$2:$A$500,0)),SUMIFS(Measurements!$C$2:$C$500,Measurements!$A$2:$A$500,A15,Measurements!$B$2:$B$500,G15)/COUNTIFS(Measurements!$A$2:$A$500,A15,Measurements!$B$2:$B$500,G15))) | G15: =IF(A15="","",IF(COUNTIF(Measurements!$A$2:$A$500,A15)=0,"",_xlfn.MAXIFS(Measurements!$B$2:$B$500,Measurements!$A$2:$A$500,A15))) | H15: =IF(OR(F15="",D15="",E15="",E15=D15),"",(F15-D15)/(E15-D15)) | I15: =IF(OR(A15="",'Benefits Register'!H11="",'Benefits Register'!I11="",'Benefits Register'!I11<='Benefits Register'!H11),"",MAX(0,MIN(1,($B$3-'Benefits Register'!H11)/('Benefits Register'!I11-'Benefits Register'!H11)))) | J15: =IF(H15="",IF(A15="","","Not measured"),IF(H15>=1,"Achieved",IF(I15="","Tracking",IF(H15>=0.9*I15,"On track","Behind"))))
A16: =IF('Benefits Register'!B12="","",'Benefits Register'!A12) | B16: =IF(A16="","",'Benefits Register'!B12) | C16: =IF(A16="","",'Benefits Register'!J12&"") | D16: =IF(A16="","",'Benefits Register'!F12) | E16: =IF(A16="","",'Benefits Register'!G12) | F16: =IF(OR(A16="",COUNTIF(Measurements!$A$2:$A$500,A16)=0),"",IF(G16=0,INDEX(Measurements!$C$2:$C$500,MATCH(A16,Measurements!$A$2:$A$500,0)),SUMIFS(Measurements!$C$2:$C$500,Measurements!$A$2:$A$500,A16,Measurements!$B$2:$B$500,G16)/COUNTIFS(Measurements!$A$2:$A$500,A16,Measurements!$B$2:$B$500,G16))) | G16: =IF(A16="","",IF(COUNTIF(Measurements!$A$2:$A$500,A16)=0,"",_xlfn.MAXIFS(Measurements!$B$2:$B$500,Measurements!$A$2:$A$500,A16))) | H16: =IF(OR(F16="",D16="",E16="",E16=D16),"",(F16-D16)/(E16-D16)) | I16: =IF(OR(A16="",'Benefits Register'!H12="",'Benefits Register'!I12="",'Benefits Register'!I12<='Benefits Register'!H12),"",MAX(0,MIN(1,($B$3-'Benefits Register'!H12)/('Benefits Register'!I12-'Benefits Register'!H12)))) | J16: =IF(H16="",IF(A16="","","Not measured"),IF(H16>=1,"Achieved",IF(I16="","Tracking",IF(H16>=0.9*I16,"On track","Behind"))))
A17: =IF('Benefits Register'!B13="","",'Benefits Register'!A13) | B17: =IF(A17="","",'Benefits Register'!B13) | C17: =IF(A17="","",'Benefits Register'!J13&"") | D17: =IF(A17="","",'Benefits Register'!F13) | E17: =IF(A17="","",'Benefits Register'!G13) | F17: =IF(OR(A17="",COUNTIF(Measurements!$A$2:$A$500,A17)=0),"",IF(G17=0,INDEX(Measurements!$C$2:$C$500,MATCH(A17,Measurements!$A$2:$A$500,0)),SUMIFS(Measurements!$C$2:$C$500,Measurements!$A$2:$A$500,A17,Measurements!$B$2:$B$500,G17)/COUNTIFS(Measurements!$A$2:$A$500,A17,Measurements!$B$2:$B$500,G17))) | G17: =IF(A17="","",IF(COUNTIF(Measurements!$A$2:$A$500,A17)=0,"",_xlfn.MAXIFS(Measurements!$B$2:$B$500,Measurements!$A$2:$A$500,A17))) | H17: =IF(OR(F17="",D17="",E17="",E17=D17),"",(F17-D17)/(E17-D17)) | I17: =IF(OR(A17="",'Benefits Register'!H13="",'Benefits Register'!I13="",'Benefits Register'!I13<='Benefits Register'!H13),"",MAX(0,MIN(1,($B$3-'Benefits Register'!H13)/('Benefits Register'!I13-'Benefits Register'!H13)))) | J17: =IF(H17="",IF(A17="","","Not measured"),IF(H17>=1,"Achieved",IF(I17="","Tracking",IF(H17>=0.9*I17,"On track","Behind"))))
... A25: =IF('Benefits Register'!B21="","",'Benefits Register'!A21) | B25: =IF(A25="","",'Benefits Register'!B21) | C25: =IF(A25="","",'Benefits Register'!J21&"") | D25: =IF(A25="","",'Benefits Register'!F21) | E25: =IF(A25="","",'Benefits Register'!G21) | F25: =IF(OR(A25="",COUNTIF(Measurements!$A$2:$A$500,A25)=0),"",IF(G25=0,INDEX(Measurements!$C$2:$C$500,MATCH(A25,Measurements!$A$2:$A$500,0)),SUMIFS(Measurements!$C$2:$C$500,Measurements!$A$2:$A$500,A25,Measurements!$B$2:$B$500,G25)/COUNTIFS(Measurements!$A$2:$A$500,A25,Measurements!$B$2:$B$500,G25))) | G25: =IF(A25="","",IF(COUNTIF(Measurements!$A$2:$A$500,A25)=0,"",_xlfn.MAXIFS(Measurements!$B$2:$B$500,Measurements!$A$2:$A$500,A25))) | H25: =IF(OR(F25="",D25="",E25="",E25=D25),"",(F25-D25)/(E25-D25)) | I25: =IF(OR(A25="",'Benefits Register'!H21="",'Benefits Register'!I21="",'Benefits Register'!I21<='Benefits Register'!H21),"",MAX(0,MIN(1,($B$3-'Benefits Register'!H21)/('Benefits Register'!I21-'Benefits Register'!H21)))) | J25: =IF(H25="",IF(A25="","","Not measured"),IF(H25>=1,"Achieved",IF(I25="","Tracking",IF(H25>=0.9*I25,"On track","Behind"))))
A27: Status: Achieved at 100% of target or more. On track when progress is at least 90% of where steady improvement would be by today. Behind below that.
A28: © 2026 Stephens Insight Group LLC. Capital In. Value Out. | stephensinsightgroup.com

Sheet Benefits Register
A1: Benefit ID | B1: Benefit | C1: Type | D1: Measure | E1: Unit | F1: Baseline | G1: Target | H1: Start date | I1: Target date | J1: Business owner | K1: Business case line | L1: How measured | M1: Frequency
A2: ="B-"&TEXT(ROW()-1,"000")
A3: ="B-"&TEXT(ROW()-1,"000")
A4: ="B-"&TEXT(ROW()-1,"000")
A5: ="B-"&TEXT(ROW()-1,"000")
A6: ="B-"&TEXT(ROW()-1,"000")
A7: ="B-"&TEXT(ROW()-1,"000")
A8: ="B-"&TEXT(ROW()-1,"000")
A9: ="B-"&TEXT(ROW()-1,"000")
A10: ="B-"&TEXT(ROW()-1,"000")
A11: ="B-"&TEXT(ROW()-1,"000")
A12: ="B-"&TEXT(ROW()-1,"000")
A13: ="B-"&TEXT(ROW()-1,"000")
... A21: ="B-"&TEXT(ROW()-1,"000")

Sheet Measurements
A1: Benefit ID | B1: Measurement date | C1: Actual value | D1: Source | E1: Notes

Sheet Closeout Review
A1: Benefits Closeout Review
A2: Complete at program closeout, then again once benefits have had time to land.
A4: Question | B4: Response
A5: Review date and participants
A6: Which benefits were achieved, and what evidence shows it?
A7: Which benefits fell short, and why?
A8: Were any benefits we did not plan for realized?
A9: What costs or side effects did we not expect?
A10: Who owns each benefit still being tracked after closeout?
A11: When is the next benefits review?
A12: What should future business cases do differently?
A13: Sponsor sign-off (name and date)
